BEGIN:VCALENDAR
VERSION:2.0
PRODID:-//wp-events-plugin.com//7.2.3.1//EN
TZID:Europe/Bucharest
X-WR-TIMEZONE:Europe/Bucharest
BEGIN:VEVENT
UID:386@sibiuonline.com
DTSTART;TZID=Europe/Bucharest:20131130T170000
DTEND;TZID=Europe/Bucharest:20131130T200000
DTSTAMP:20131119T102342Z
URL:https://sibiuonline.com/eveniment/atelier-papucasii-lui-mos-craciun/
SUMMARY:Atelier papucaşii lui Moş Crăciun
DESCRIPTION:Vine Moş Crãciun!\nAi fost cuminte? Suntem convinşi cã da. 
 Deci o sã vinã cu multe cadouri!\nCã doar a venit în fiecare an negre
 şit.\n\nAnul acesta trebuie sã-i mulţumeşti. Şi ce-i place Moşului c
 el mai mult? Dulciurileeee!\nVa trebui sã-i pregãteşti nişte bomboane 
 din care acesta sã mãnânce pentru a-şi reface puterile.\n\nIa-ţi pãr
 intii de mânã şi haideţi în Shopping City Sibiu pe data de 30 noiembi
 re între orele 17.00- 20.00. O sã confecţionezi papucaşi din material 
 textil\, cu multe petice colorate\, năsturaşi\, funde şi alte accesorii
 \, în care sã pui dulciurile pentru Moşul care iţi aduce bucurie în f
 iecare iarnã.\n\n\n\n&nbsp\;
ATTACH;FMTTYPE=image/jpeg:https://sibiuonline.com/wp-content/uploads/2013/
 11/2013-11-MagicHandsStudio-papuc.jpg
CATEGORIES:Atelier handmade
LOCATION:Shopping City Sibiu\, Selimbar\, DN 1\, Km 306\,\, Selimbar\, Sibi
 u\, România
GEO:45.77678447964284;24.169809055328415
X-APPLE-STRUCTURED-LOCATION;VALUE=URI;X-ADDRESS=Selimbar\, DN 1\, Km 306\,\
 , Selimbar\, Sibiu\, România;X-APPLE-RADIUS=100;X-TITLE=Shopping City Sib
 iu:geo:45.77678447964284,24.169809055328415
END:VEVENT
BEGIN:VTIMEZONE
TZID:Europe/Bucharest
X-LIC-LOCATION:Europe/Bucharest
BEGIN:STANDARD
DTSTART:20131027T030000
TZOFFSETFROM:+0300
TZOFFSETTO:+0200
TZNAME:EET
END:STANDARD
END:VTIMEZONE
END:VCALENDAR