BEGIN:VCALENDAR
VERSION:2.0
PRODID:-//wp-events-plugin.com//7.2.3.1//EN
TZID:Europe/Bucharest
X-WR-TIMEZONE:Europe/Bucharest
BEGIN:VEVENT
UID:6578@sibiuonline.com
DTSTART;TZID=Europe/Bucharest:20180427T140000
DTEND;TZID=Europe/Bucharest:20180503T160000
DTSTAMP:20180427T081917Z
URL:https://sibiuonline.com/eveniment/aventuri-fara-pereche-lichozrouti-th
 e-oddsockeaters-premiera/
SUMMARY:Aventuri fără pereche / Lichozrouti / The Oddsockeaters (Premier
 ă)
DESCRIPTION:Aventuri fără pereche / Lichozrouti / The Oddsockeaters (Prem
 ieră) (AG – Audienţă Generală)\nZilnic ora 14:00\n\n
ATTACH;FMTTYPE=image/jpeg:https://sibiuonline.com/wp-content/uploads/2018/
 04/AventuriFaraPereche-Lichozrouti-cinema-sibiu.jpg
CATEGORIES:Cinema
LOCATION:Cinema Arta\, P-ţa Aurel Vlaicu\, nr.1\, Sibiu\, România
GEO:45.782850937845936;24.149009656127873
X-APPLE-STRUCTURED-LOCATION;VALUE=URI;X-ADDRESS=P-ţa Aurel Vlaicu\, nr.1\,
  Sibiu\, România;X-APPLE-RADIUS=100;X-TITLE=Cinema Arta:geo:45.7828509378
 45936,24.149009656127873
END:VEVENT
BEGIN:VTIMEZONE
TZID:Europe/Bucharest
X-LIC-LOCATION:Europe/Bucharest
BEGIN:DAYLIGHT
DTSTART:20180325T040000
TZOFFSETFROM:+0200
TZOFFSETTO:+0300
TZNAME:EEST
END:DAYLIGHT
END:VTIMEZONE
END:VCALENDAR