BEGIN:VCALENDAR
VERSION:2.0
PRODID:-//wp-events-plugin.com//7.2.3.1//EN
TZID:Europe/Bucharest
X-WR-TIMEZONE:Europe/Bucharest
BEGIN:VEVENT
UID:2202@sibiuonline.com
DTSTART;TZID=Europe/Bucharest:20140711T180000
DTEND;TZID=Europe/Bucharest:20140717T200000
DTSTAMP:20140711T174020Z
URL:https://sibiuonline.com/eveniment/cucereste-o-cu-salsa-cuban-fury/
SUMMARY:Cucereste-o cu salsa! / Cuban Fury (Premiera)
DESCRIPTION:Cucereste-o cu salsa! / Cuban Fury (Premiera)\nRuleaza zilnic (
 vineri\, sambata\, duminica\, luni\, marti\, miercuri\, joi) la ora 18\,00
 \n\n
ATTACH;FMTTYPE=image/jpeg:https://sibiuonline.com/wp-content/uploads/2014/
 07/2014-07-arta-cuban-fury.jpg
CATEGORIES:Cinema
LOCATION:Cinema Arta\, P-ţa Aurel Vlaicu\, nr.1\, Sibiu\, România
GEO:45.782850937845936;24.149009656127873
X-APPLE-STRUCTURED-LOCATION;VALUE=URI;X-ADDRESS=P-ţa Aurel Vlaicu\, nr.1\,
  Sibiu\, România;X-APPLE-RADIUS=100;X-TITLE=Cinema Arta:geo:45.7828509378
 45936,24.149009656127873
END:VEVENT
BEGIN:VTIMEZONE
TZID:Europe/Bucharest
X-LIC-LOCATION:Europe/Bucharest
BEGIN:DAYLIGHT
DTSTART:20140330T040000
TZOFFSETFROM:+0200
TZOFFSETTO:+0300
TZNAME:EEST
END:DAYLIGHT
END:VTIMEZONE
END:VCALENDAR