BEGIN:VCALENDAR
VERSION:2.0
PRODID:-//wp-events-plugin.com//7.2.3.1//EN
TZID:Europe/Bucharest
X-WR-TIMEZONE:Europe/Bucharest
BEGIN:VEVENT
UID:1474@sibiuonline.com
DTSTART;TZID=Europe/Bucharest:20140322T140000
DTEND;TZID=Europe/Bucharest:20140327T160000
DTSTAMP:20140324T073354Z
URL:https://sibiuonline.com/eveniment/divergent/
SUMMARY:Divergent 
DESCRIPTION:Divergent 2D • zilnic\, sâmbătă-joi\, la ora 14:00\n\n
ATTACH;FMTTYPE=image/jpeg:https://sibiuonline.com/wp-content/uploads/2014/
 03/2014-03-arta-divergent.jpg
CATEGORIES:Cinema
LOCATION:Cinema Arta\, P-ţa Aurel Vlaicu\, nr.1\, Sibiu\, România
GEO:45.782850937845936;24.149009656127873
X-APPLE-STRUCTURED-LOCATION;VALUE=URI;X-ADDRESS=P-ţa Aurel Vlaicu\, nr.1\,
  Sibiu\, România;X-APPLE-RADIUS=100;X-TITLE=Cinema Arta:geo:45.7828509378
 45936,24.149009656127873
END:VEVENT
BEGIN:VTIMEZONE
TZID:Europe/Bucharest
X-LIC-LOCATION:Europe/Bucharest
BEGIN:STANDARD
DTSTART:20131027T030000
TZOFFSETFROM:+0300
TZOFFSETTO:+0200
TZNAME:EET
END:STANDARD
END:VTIMEZONE
END:VCALENDAR