BEGIN:VCALENDAR
VERSION:2.0
PRODID:-//wp-events-plugin.com//7.2.3.1//EN
TZID:Europe/Bucharest
X-WR-TIMEZONE:Europe/Bucharest
BEGIN:VEVENT
UID:253@sibiuonline.com
DTSTART;TZID=Europe/Bucharest:20131105T100000
DTEND;TZID=Europe/Bucharest:20131105T110000
DTSTAMP:20131104T203847Z
URL:https://sibiuonline.com/eveniment/don-quijote/
SUMMARY:DON QUIJOTE
DESCRIPTION:“DON QUIJOTE” este un spectacol poetic\, care explorează t
 eme filozofice complexe şi extinde limitele posibilităţilor. Este poves
 tea unui salvator neînţeles care-şi asumă nebunia şi încearcă să r
 ăstoarne tradiţii ineficiente şi periculoase. Realizat în maniera spec
 tacolului de animaţie\, se adresează atât copiiilor cât şi adulţilor
  şi propune o combinaţie de diferite forme teatrale\, cum ar fi marionet
 ele cu mai mult de patru fire\, actori la vedere şi joc artistic al mâin
 ilor.\n\n\n\nSursa: teatrulgong.ro
ATTACH;FMTTYPE=image/jpeg:https://sibiuonline.com/wp-content/uploads/2013/
 11/2013-11-Gong-DonQuijote.jpg
CATEGORIES:Teatru - balet
LOCATION:Teatrul Gong Sibiu\, Str. Alexandru Odobescu nr. 4\, Sibiu\, Româ
 nia
GEO:45.79667911243235;24.147528080812094
X-APPLE-STRUCTURED-LOCATION;VALUE=URI;X-ADDRESS=Str. Alexandru Odobescu nr.
  4\, Sibiu\, România;X-APPLE-RADIUS=100;X-TITLE=Teatrul Gong Sibiu:geo:45
 .79667911243235,24.147528080812094
END:VEVENT
BEGIN:VTIMEZONE
TZID:Europe/Bucharest
X-LIC-LOCATION:Europe/Bucharest
BEGIN:STANDARD
DTSTART:20131027T030000
TZOFFSETFROM:+0300
TZOFFSETTO:+0200
TZNAME:EET
END:STANDARD
END:VTIMEZONE
END:VCALENDAR