BEGIN:VCALENDAR
VERSION:2.0
PRODID:-//wp-events-plugin.com//7.2.3.1//EN
TZID:Europe/Bucharest
X-WR-TIMEZONE:Europe/Bucharest
BEGIN:VEVENT
UID:6684@sibiuonline.com
DTSTART;TZID=Europe/Bucharest:20180615T210000
DTEND;TZID=Europe/Bucharest:20180621T230000
DTSTAMP:20180615T123412Z
URL:https://sibiuonline.com/eveniment/iubindu-l-pe-pablo-urandu-l-pe-escob
 ar-loving-pablo-premiera/
SUMMARY:Iubindu-l pe Pablo\, urându-l pe Escobar / Loving Pablo (Premieră
 )
DESCRIPTION:Iubindu-l pe Pablo\, urându-l pe Escobar / Loving Pablo (Premi
 eră) N-15 – Nerecomandat sub 15 ani)\nZilnic ora 21:00\n\n
ATTACH;FMTTYPE=image/jpeg:https://sibiuonline.com/wp-content/uploads/2018/
 06/LovingPablo-cinema.jpg
CATEGORIES:Cinema
LOCATION:Cinema Arta\, P-ţa Aurel Vlaicu\, nr.1\, Sibiu\, România
GEO:45.782850937845936;24.149009656127873
X-APPLE-STRUCTURED-LOCATION;VALUE=URI;X-ADDRESS=P-ţa Aurel Vlaicu\, nr.1\,
  Sibiu\, România;X-APPLE-RADIUS=100;X-TITLE=Cinema Arta:geo:45.7828509378
 45936,24.149009656127873
END:VEVENT
BEGIN:VTIMEZONE
TZID:Europe/Bucharest
X-LIC-LOCATION:Europe/Bucharest
BEGIN:DAYLIGHT
DTSTART:20180325T040000
TZOFFSETFROM:+0200
TZOFFSETTO:+0300
TZNAME:EEST
END:DAYLIGHT
END:VTIMEZONE
END:VCALENDAR