BEGIN:VCALENDAR
VERSION:2.0
PRODID:-//wp-events-plugin.com//7.2.3.1//EN
TZID:Europe/Bucharest
X-WR-TIMEZONE:Europe/Bucharest
BEGIN:VEVENT
UID:2524@sibiuonline.com
DTSTART;TZID=Europe/Bucharest:20140926T220000
DTEND;TZID=Europe/Bucharest:20140926T235900
DTSTAMP:20140831T215119Z
URL:https://sibiuonline.com/eveniment/karaoke-night-4-2014-09-26/
SUMMARY:Karaoke Night
DESCRIPTION:
ATTACH;FMTTYPE=image/jpeg:https://sibiuonline.com/wp-content/uploads/2014/
 06/2014-06-karaoke-bicicleta.jpg
CATEGORIES:Karaoke
LOCATION:Bicicleta French Pub \, str. Gimnastici nr.39\, Sibiu\, Sibiu\, Si
 biu\, România
GEO:45.79204804708532;24.151334035968034
X-APPLE-STRUCTURED-LOCATION;VALUE=URI;X-ADDRESS=str. Gimnastici nr.39\, Sib
 iu\, Sibiu\, Sibiu\, România;X-APPLE-RADIUS=100;X-TITLE=Bicicleta French 
 Pub :geo:45.79204804708532,24.151334035968034
END:VEVENT
BEGIN:VTIMEZONE
TZID:Europe/Bucharest
X-LIC-LOCATION:Europe/Bucharest
BEGIN:DAYLIGHT
DTSTART:20140330T040000
TZOFFSETFROM:+0200
TZOFFSETTO:+0300
TZNAME:EEST
END:DAYLIGHT
END:VTIMEZONE
END:VCALENDAR