BEGIN:VCALENDAR
VERSION:2.0
PRODID:-//wp-events-plugin.com//7.2.3.1//EN
TZID:Europe/Bucharest
X-WR-TIMEZONE:Europe/Bucharest
BEGIN:VEVENT
UID:2065@sibiuonline.com
DTSTART;TZID=Europe/Bucharest;VALUE=DATE:20140703
DTEND;TZID=Europe/Bucharest;VALUE=DATE:20140707
DTSTAMP:20140703T061750Z
URL:https://sibiuonline.com/eveniment/obor-fest/
SUMMARY:Obor Fest 
DESCRIPTION:Obor Fest are toate ingredientele pentru a oferi vizitatorilor 
 meniul garantat pentru distracție: locuri de joacă pentru copii de toate
  vârstele\, pistă de karting\, bungee jumping\, carusele\, castele gonfl
 abile\, personaje de poveste\, până la zone de desfăț culinar\, relaxa
 re\, concerte.Fiecare zi va avea un element surpriză: lansări de lampioa
 ne\, concursuri cu premii\, carnavalul piticilor\, concerte cu artiști î
 n vogă.\nSpațiul de peste 10.000 de metri patrati va găzdui timp de 4 z
 ile cel mai așteptat festival adresat atât copiilor\, cât și tinerilor
  și adulților dornici de o experiență de neuitat\, care se va continua
  și pe timpul serii și nopții cu petreceri în aer liber.\n\nPROGRAM OB
 OR FEST:\n\nJoi\, 03.07.2014\n\nMISH MAIL 10:00 – 12:00\nConcursuri si a
 nimatie pentru copii\n\nCARNAVAL 17:00 – 19:00\n\nKANGOO SIBIU 21:00 –
  21:30\n\nVineri\, 04.07.2014\n\nMISH MAIL 10:00 – 12:00\nConcursuri si 
 animatie pentru copii\n\nPALATUL COPIILOR SIBIU 12:00 – 13:00\nProgram a
 rtistic – atelier creatie\n\nMISH MAIL 16:00 – 18:00\nConcursuri si an
 imatie pentru copii\n\nCONCERT: MARIANA ANGHEL 19:00 - 20:00\n\nDansuri mo
 derne Sonia 20:00 – 21:00\n\nCONCERT: Maxim 21:00 – 22:00\n\n22:00 –
  23:00\nProgram in aer liber\n\nSambata\, 05.07.2014\n\nMISH MAIL 9:00 –
  11:30\nConcursuri si animatie pentru copii\n\nScoala de dans Ioan Macrea 
 11:30 – 13:00 Inchidere An\n\nPALATUL COPIILOR SIBIU 15:00-16:00\nProgra
 m atelier creatie - aeronave\n\nMISH MAIL 16:00 – 18:00\nConcursuri si a
 nimatie pentru copii\n\nCONCERT: Veta Biris 19:00 – 20:00\n\nDansuri mod
 erne Sonia 20:00 – 21:00\n\nCONCERT: Lora 21:00 – 22:00\nProgram in ae
 r liber 22:00 – 23:00\n\nDuminica\, 06.07.2014\n\nMISH MAIL 10:00 – 12
 :00\nConcursuri si animatie pentru copii\n\nDiscurs Primar Klaus Johannis 
 12:00 – 12:30\nDorian Popa 12:30 – 13:00\n\nPALATUL COPIILOR SIBIU 15:
 30 – 17:00\nProgram atelier creatie – aeronave\n\nMiss &amp\; Mister K
 ids 17:00 – 19:00\n\nCleopatra Models\, prezentare de moda pentru copii\
 n\nCONCERT: Daniel Rosalim 20:00 – 21:00\n\nCONCERT: Alina Eremia 21:30 
 – 22:40\n\n
ATTACH;FMTTYPE=image/jpeg:https://sibiuonline.com/wp-content/uploads/2014/
 06/2014-oborfest.jpg
CATEGORIES:Alte evenimente,Targuri
LOCATION:Targul Obor \, Calea Surii Mari\, Sibiu\, România
GEO:45.81663596792933;24.14989478413088
X-APPLE-STRUCTURED-LOCATION;VALUE=URI;X-ADDRESS=Calea Surii Mari\, Sibiu\, 
 România;X-APPLE-RADIUS=100;X-TITLE=Targul Obor :geo:45.81663596792933,24.
 14989478413088
END:VEVENT
BEGIN:VTIMEZONE
TZID:Europe/Bucharest
X-LIC-LOCATION:Europe/Bucharest
BEGIN:DAYLIGHT
DTSTART:20140330T040000
TZOFFSETFROM:+0200
TZOFFSETTO:+0300
TZNAME:EEST
END:DAYLIGHT
END:VTIMEZONE
END:VCALENDAR