BEGIN:VCALENDAR
VERSION:2.0
PRODID:-//wp-events-plugin.com//7.2.3.1//EN
TZID:Europe/Bucharest
X-WR-TIMEZONE:Europe/Bucharest
BEGIN:VEVENT
UID:926@sibiuonline.com
DTSTART;TZID=Europe/Bucharest:20140123T190000
DTEND;TZID=Europe/Bucharest:20140123T200000
DTSTAMP:20140121T153143Z
URL:https://sibiuonline.com/eveniment/panica/
SUMMARY:PANICĂ
DESCRIPTION:Mika Myllyaho\nla Sala Studio din spatele Casei de Cultură a S
 indicatelor\n&nbsp\;\n\nREGIA: Daniel Plier\; TRADUCEREA în limba german
 ă de Eeva Bergroth şi Martina Marti\; DISTRIBUŢIA: Daniel Plier\, Danie
 l Bucher\, Wolfgang Kandler\n\n\n\nSursa: tnrs.ro
ATTACH;FMTTYPE=image/jpeg:https://sibiuonline.com/wp-content/uploads/2014/
 01/2014-01-tnrs-panik.jpg
CATEGORIES:Teatru - balet
LOCATION:Casa de Cultură a Sindicatelor Sibiu\, Str. Emil Cioran\, nr. 1A\
 , Sibiu\, România
GEO:45.79002696184144;24.148104775007596
X-APPLE-STRUCTURED-LOCATION;VALUE=URI;X-ADDRESS=Str. Emil Cioran\, nr. 1A\,
  Sibiu\, România;X-APPLE-RADIUS=100;X-TITLE=Casa de Cultură a Sindicatel
 or Sibiu:geo:45.79002696184144,24.148104775007596
END:VEVENT
BEGIN:VTIMEZONE
TZID:Europe/Bucharest
X-LIC-LOCATION:Europe/Bucharest
BEGIN:STANDARD
DTSTART:20131027T030000
TZOFFSETFROM:+0300
TZOFFSETTO:+0200
TZNAME:EET
END:STANDARD
END:VTIMEZONE
END:VCALENDAR