BEGIN:VCALENDAR
VERSION:2.0
PRODID:-//wp-events-plugin.com//7.2.3.1//EN
TZID:Europe/Bucharest
X-WR-TIMEZONE:Europe/Bucharest
BEGIN:VEVENT
UID:762@sibiuonline.com
DTSTART;TZID=Europe/Bucharest:20131231T210000
DTEND;TZID=Europe/Bucharest:20140101T070000
DTSTAMP:20131227T100351Z
URL:https://sibiuonline.com/eveniment/revelion-2014-in-oldies-pub/
SUMMARY:REVELION 2014 in Oldies Pub
DESCRIPTION:Hai cu chef de distracție să petreci REVELIONUL alături de n
 oi\, în Oldies Pub – Live Music.\nÎncepe anul 2014 cu un cocktail de r
 itmuri amețitoare alături DJ Pitch!\nPentru detalii și rezervări te ru
 găm să suni la numărul de telefon +40 733 087 117.\nTe așteptăm la Ol
 dies Pub – Live Music!\n\n
ATTACH;FMTTYPE=image/jpeg:https://sibiuonline.com/wp-content/uploads/2013/
 12/2013-12-Oldies-Rev.jpg
CATEGORIES:Alte evenimente,Club - Pub - Cafe
LOCATION:Oldies Pub - Live Music \, Str. Nicolae Balcescu Nr. 13\, Sibiu\, 
 România
GEO:45.79458816207674;24.15097937004475
X-APPLE-STRUCTURED-LOCATION;VALUE=URI;X-ADDRESS=Str. Nicolae Balcescu Nr. 1
 3\, Sibiu\, România;X-APPLE-RADIUS=100;X-TITLE=Oldies Pub - Live Music :g
 eo:45.79458816207674,24.15097937004475
END:VEVENT
BEGIN:VTIMEZONE
TZID:Europe/Bucharest
X-LIC-LOCATION:Europe/Bucharest
BEGIN:STANDARD
DTSTART:20131027T030000
TZOFFSETFROM:+0300
TZOFFSETTO:+0200
TZNAME:EET
END:STANDARD
END:VTIMEZONE
END:VCALENDAR