BEGIN:VCALENDAR
VERSION:2.0
PRODID:-//wp-events-plugin.com//7.2.3.1//EN
TZID:Europe/Bucharest
X-WR-TIMEZONE:Europe/Bucharest
BEGIN:VEVENT
UID:6355@sibiuonline.com
DTSTART;TZID=Europe/Bucharest:20180209T220000
DTEND;TZID=Europe/Bucharest:20180210T010000
DTSTAMP:20180202T103526Z
URL:https://sibiuonline.com/eveniment/the-chaos-in-my-mind/
SUMMARY:The chaos in my mind
DESCRIPTION:The chaos in my mind || Vineri 9 Februarie || IMPERIUM LIVE\n\n
 The chaos in my mind tour / Solo / Acoustic / Author's\nnight/ Imperium Li
 ve/ First "pay what you want" tour in Romania\nOra inceperii: 22:00\n_____
 ____\nNicolae Bălcescu\, nr.24 Rezervări: 0369 454 690 / 0745.391.481\n\
 n
ATTACH;FMTTYPE=image/jpeg:https://sibiuonline.com/wp-content/uploads/2018/
 02/The-chaos-in-my-mind.jpg
CATEGORIES:Club - Pub - Cafe,Concerte
LOCATION:Imperium Live\, Str. Nicolae Balcescu nr. 24\, Sibiu\, România
GEO:45.793946705804274;24.14988234655766
X-APPLE-STRUCTURED-LOCATION;VALUE=URI;X-ADDRESS=Str. Nicolae Balcescu nr. 2
 4\, Sibiu\, România;X-APPLE-RADIUS=100;X-TITLE=Imperium Live:geo:45.79394
 6705804274,24.14988234655766
END:VEVENT
BEGIN:VTIMEZONE
TZID:Europe/Bucharest
X-LIC-LOCATION:Europe/Bucharest
BEGIN:STANDARD
DTSTART:20171029T030000
TZOFFSETFROM:+0300
TZOFFSETTO:+0200
TZNAME:EET
END:STANDARD
END:VTIMEZONE
END:VCALENDAR