BEGIN:VCALENDAR
VERSION:2.0
PRODID:-//wp-events-plugin.com//7.2.3.1//EN
TZID:Europe/Bucharest
X-WR-TIMEZONE:Europe/Bucharest
BEGIN:VEVENT
UID:1372@sibiuonline.com
DTSTART;TZID=Europe/Bucharest;VALUE=DATE:20140312
DTEND;TZID=Europe/Bucharest;VALUE=DATE:20140317
DTSTAMP:20140306T214723Z
URL:https://sibiuonline.com/eveniment/zilele-filmului-maghiar/
SUMMARY:Zilele Filmului Maghiar
DESCRIPTION:Asociaţia Maghiarilor din Sibiu–HID prin Centrul Cultural M
 aghiar în colaborare cu  Institutul Balassi – Institutul Cultural Magh
 iar din Bucureşti\, Clorofilm\, Asociaţia Filmtett\, Subterana Cinematog
 rafică\, Atrium Cafe Bistro &amp\; Art\, cu srijinul Parohiei Reformate 
 şi a Casei de Cultură a Municipiului din Sibiu organizează în perioada
  12-16 martie 2014 Zilele Filmului Maghiar. Parteneri media: Zile şi Nop
 ţi\, Magic Fm\, Szabadság\, Hermannstaedter Zeitung\, Szeben.ro.\nCinefi
 lii din Sibiu sunt invitaţi să vizioneze filmele regizorilor maghiari la
  Centrul Cultural Maghiar\, Librăria Humanitas şi în Atrium Cafe Bistr
 o &amp\; Art. Toate filmele vor avea subtitrare în limba română. În p
 rogram sunt incluse şi două vernisaje\, astfel sibienii vor putea vedea 
 în Turnul Sfatului expoziţia „Refugiu” de Baranyi Ildikó (EFIAP)\
 , care va fi vernisat în 12 martie\, ora 17\, iar în aceeaşi zi\, dar l
 a Centrul Cultural Maghiar de pe strada Berăriei\, nr. 2A\, se va verni
 sa expoziţia  de ilustraţii „Tinerii din Martie” la orele 18.\nA 
 treia ediţie a Zilelor Filmului Maghiar la Sibiu vor debuta miercuri\, 12
  martie\, de la ora 19:00\, la  Centrul Cultural Maghiar (str. Berăriei
 \, nr. 2A)\, cu filmul „Fata dansată până la moarte” (Dramă-dans
 \, 2011\, 100 min). Joi seara cinefilii sunt invitaţi să vizioneze în c
 adrul Subteranei Cinematografice - partener al evenimentului - un film pre
 miat la Festivalul de film din Berlin în 2013: Doar vântul / Just the wi
 nd semnat Bence Fliegauf\, Librăria Humanitas\, ora 20:00 (intrare 7 lei)
 .\nProgramul tuturor proiecţiilor şi detalii în limba română se găse
 sc AICI.\n
ATTACH;FMTTYPE=image/jpeg:https://sibiuonline.com/wp-content/uploads/2014/
 03/2014-03-ZileleFilmuluiMaghiar.jpg
CATEGORIES:Alte evenimente
LOCATION:Piata Mare Sibiu\, Piata Mare\, Sibiu\, România
GEO:45.79659871394728;24.15173384180298
X-APPLE-STRUCTURED-LOCATION;VALUE=URI;X-ADDRESS=Piata Mare\, Sibiu\, Român
 ia;X-APPLE-RADIUS=100;X-TITLE=Piata Mare Sibiu:geo:45.79659871394728,24.15
 173384180298
END:VEVENT
BEGIN:VTIMEZONE
TZID:Europe/Bucharest
X-LIC-LOCATION:Europe/Bucharest
BEGIN:STANDARD
DTSTART:20131027T030000
TZOFFSETFROM:+0300
TZOFFSETTO:+0200
TZNAME:EET
END:STANDARD
END:VTIMEZONE
END:VCALENDAR